BEGIN:VCALENDAR
VERSION:2.0
PRODID:-//192.250.232.12//NONSGML kigkonsult.se iCalcreator 2.26.9//
CALSCALE:GREGORIAN
METHOD:PUBLISH
X-FROM-URL:http://dubbofamilyhistory.org.au
X-WR-TIMEZONE:Australia/Sydney
BEGIN:VTIMEZONE
TZID:Australia/Sydney
X-LIC-LOCATION:Australia/Sydney
BEGIN:STANDARD
DTSTART:20260405T030000
TZOFFSETFROM:+1100
TZOFFSETTO:+1000
RDATE:20270404T030000
TZNAME:AEST
END:STANDARD
BEGIN:DAYLIGHT
DTSTART:20251005T020000
TZOFFSETFROM:+1000
TZOFFSETTO:+1100
RDATE:20261004T020000,20271003T020000
TZNAME:AEDT
END:DAYLIGHT
END:VTIMEZONE
BEGIN:VEVENT
UID:ai1ec-1403@dubbofamilyhistory.org.au
DTSTAMP:20260424T162639Z
CATEGORIES:
CONTACT:Jo: Text 0438 511 980\; Linda: Ph. 6887 8284
DESCRIPTION:
DTSTART;TZID=Australia/Sydney:20230703T103000
DTEND;TZID=Australia/Sydney:20230703T113000
LOCATION:Dubbo Cultural Centre Music Room (next to DDFHS library) @ Cnr. Wi
 ngewarra & Gipps Street Dubbo
SEQUENCE:0
SUMMARY:Training Classes
URL:http://dubbofamilyhistory.org.au/event/training-classes/
X-COST-TYPE:free
X-COST:$10 non member\, $5 members
END:VEVENT
BEGIN:VEVENT
UID:ai1ec-1414@dubbofamilyhistory.org.au
DTSTAMP:20260424T162639Z
CATEGORIES:
CONTACT:baretsmiths@bigpond.com
DESCRIPTION:
DTSTART;TZID=Australia/Sydney:20230721T140000
DTEND;TZID=Australia/Sydney:20230721T153000
LOCATION:Cultural Centre (Drama Room) upstairs @ Cnr. Wingewarra & Gipps St
 reet\, Dubbo
SEQUENCE:0
SUMMARY:Share Your Story
URL:http://dubbofamilyhistory.org.au/event/share-your-story/
X-COST-TYPE:free
X-COST:$7 includes a'noon tea.
END:VEVENT
BEGIN:VEVENT
UID:ai1ec-1420@dubbofamilyhistory.org.au
DTSTAMP:20260424T162639Z
CATEGORIES:
CONTACT:Jo: Text 0438 511 980 By 3/8\; Linda: Ph. 6887 8284 By 3/8
DESCRIPTION:
DTSTART;TZID=Australia/Sydney:20230807T103000
DTEND;TZID=Australia/Sydney:20230807T113000
LOCATION:Dubbo Cultural Centre Music Room (next to DDFHS library) @ Cnr Win
 gewarra & Gipps Streets Dubbo
SEQUENCE:0
SUMMARY:Training Course – Convicts – how to locate and understand convict r
 ecords.
URL:http://dubbofamilyhistory.org.au/event/1420/
X-COST-TYPE:free
X-COST:$10 non member\, $5 members
END:VEVENT
BEGIN:VEVENT
UID:ai1ec-1432@dubbofamilyhistory.org.au
DTSTAMP:20260424T162639Z
CATEGORIES:
CONTACT:Lyn\; baretsmiths@bigpond.com
DESCRIPTION:
DTSTART;TZID=Australia/Sydney:20230818T140000
DTEND;TZID=Australia/Sydney:20230818T153000
LOCATION:Cultural Centre (Drama Room) upstairs @ Cnr. Wingewarra & Gipps St
 reet Dubbo
SEQUENCE:0
SUMMARY:Share Your Story (Peter Woodley)
URL:http://dubbofamilyhistory.org.au/event/1432/
X-COST-TYPE:free
X-COST:$7 includes a'noon tea.
END:VEVENT
BEGIN:VEVENT
UID:ai1ec-1408@dubbofamilyhistory.org.au
DTSTAMP:20260424T162639Z
CATEGORIES:
CONTACT:Lyn\; baretsmiths@bigpond.com
DESCRIPTION:
DTSTART;TZID=Australia/Sydney:20230826T140000
DTEND;TZID=Australia/Sydney:20230826T163000
LOCATION:Dubbo Baptist Church Centre @ 251 Cobra Street Dubbo 2830 NSW
SEQUENCE:0
SUMMARY:40 Years Celebration of Society
URL:http://dubbofamilyhistory.org.au/event/1408/
X-COST-TYPE:free
END:VEVENT
BEGIN:VEVENT
UID:ai1ec-1437@dubbofamilyhistory.org.au
DTSTAMP:20260424T162639Z
CATEGORIES:
CONTACT:Linda\; 6887 8284
DESCRIPTION:
DTSTART;TZID=Australia/Sydney:20230904T103000
DTEND;TZID=Australia/Sydney:20230904T113000
LOCATION:Dubbo Cultural Centre Music Room (next to DDFHS library) @ Cnr. Wi
 ngewarra & Gipps Streets\, Dubbo
SEQUENCE:0
SUMMARY:Information Sessions – Using and Understanding British Census Recor
 ds
URL:http://dubbofamilyhistory.org.au/event/information-sessions-using-and-u
 nderstanding-british-census-records/
X-COST-TYPE:free
X-COST:$10 non member\, $5 members
END:VEVENT
BEGIN:VEVENT
UID:ai1ec-1475@dubbofamilyhistory.org.au
DTSTAMP:20260424T162639Z
CATEGORIES:
CONTACT:Linda\; 0488 144 513\; martinandlinda@gmail.com
DESCRIPTION:
DTSTART;TZID=Australia/Sydney:20240216T103000
DTEND;TZID=Australia/Sydney:20240216T113000
LOCATION:Dubbo Cultural Centre Music Room (next to DDFHS library) @ Cnr. Wi
 ngewarra & Gipps Street\, Dubbo
SEQUENCE:0
SUMMARY:Information Session – DNA – A very basic introduction: Pros and Con
 s
URL:http://dubbofamilyhistory.org.au/event/information-session-dna-a-very-b
 asic-introduction-pros-and-cons/
X-COST-TYPE:free
X-COST:$7.50 members\, $15 non-members
END:VEVENT
BEGIN:VEVENT
UID:ai1ec-1476@dubbofamilyhistory.org.au
DTSTAMP:20260424T162639Z
CATEGORIES:
CONTACT:Kathy\; 0427 971 232\; kathyfurney47@gmail.com
DESCRIPTION:
DTSTART;TZID=Australia/Sydney:20240303T140000
DTEND;TZID=Australia/Sydney:20240303T153000
LOCATION:Dubbo Cultural Centre Music Room (next to DDFHS library) @ Cnr. Wi
 ngewarra & Gipps Street Dubbo
SEQUENCE:0
SUMMARY:Society AGM\, Sunday 3rd March 2024\, 2.00pm
URL:http://dubbofamilyhistory.org.au/event/society-agm-sunday-3rd-march-202
 4-2-00pm/
X-COST-TYPE:free
X-COST:Free\, a'noon provided.
END:VEVENT
BEGIN:VEVENT
UID:ai1ec-1495@dubbofamilyhistory.org.au
DTSTAMP:20260424T162639Z
CATEGORIES:
CONTACT:Linda\; 6887 8284\; martinandlinda@gmail.com
DESCRIPTION:
DTSTART;TZID=Australia/Sydney:20240306T103000
DTEND;TZID=Australia/Sydney:20240306T123000
LOCATION:Dubbo Cultural Centre Music Room (next to DDFHS library) @ Cnr. Wi
 ngewarra & Gipps Street Dubbo
SEQUENCE:0
SUMMARY:Starting Your Family History Research
URL:http://dubbofamilyhistory.org.au/event/starting-your-family-history-res
 earch-2/
X-COST-TYPE:free
X-COST:$7.50 members\, $15 non-members
END:VEVENT
BEGIN:VEVENT
UID:ai1ec-1498@dubbofamilyhistory.org.au
DTSTAMP:20260424T162639Z
CATEGORIES:
CONTACT:Linda\; 6887 8284\; martinandlinda@gmail.com
DESCRIPTION:
DTSTART;TZID=Australia/Sydney:20240313T103000
DTEND;TZID=Australia/Sydney:20240313T123000
LOCATION:Dubbo Cultural Centre Music Room (next to DDFHS library) @ Cnr. Wi
 ngewarra & Gipps Streets\, Dubbo.
SEQUENCE:0
SUMMARY:Starting Your Family History Research
URL:http://dubbofamilyhistory.org.au/event/starting-your-family-history-res
 earch-4/
X-COST-TYPE:free
X-COST:$7.50 members\, $15 non-members
END:VEVENT
BEGIN:VEVENT
UID:ai1ec-1499@dubbofamilyhistory.org.au
DTSTAMP:20260424T162639Z
CATEGORIES:
CONTACT:Lyn\; baretsmiths@bigpond.com
DESCRIPTION:
DTSTART;TZID=Australia/Sydney:20240315T140000
DTEND;TZID=Australia/Sydney:20240315T153000
LOCATION:Cultural Centre (Drama Room) upstairs @ Cnr. Wingewarra & Gipps St
 reets Dubbo
SEQUENCE:0
SUMMARY:Share Your Story
URL:http://dubbofamilyhistory.org.au/event/share-your-story-2/
X-COST-TYPE:free
X-COST:$8 includes a'noon tea
END:VEVENT
BEGIN:VEVENT
UID:ai1ec-1496@dubbofamilyhistory.org.au
DTSTAMP:20260424T162639Z
CATEGORIES:
CONTACT:Linda\; 6887 8284\; martinandlinda@gmail.com
DESCRIPTION:
DTSTART;TZID=Australia/Sydney:20240320T103000
DTEND;TZID=Australia/Sydney:20240320T123000
LOCATION:Dubbo Cultural Centre Music Room (next to DDFHS library) @ Cnr. Wi
 ngewarra & Gipps Street\, Dubbo
SEQUENCE:0
SUMMARY:Starting Your Family History Research
URL:http://dubbofamilyhistory.org.au/event/starting-your-family-history-res
 earch-3/
X-COST-TYPE:free
X-COST:$7.50 members\, $15 non-members
END:VEVENT
BEGIN:VEVENT
UID:ai1ec-1494@dubbofamilyhistory.org.au
DTSTAMP:20260424T162639Z
CATEGORIES:
CONTACT:Linda\; Ph. 6887 8284\; martinandlinda@gmail.com
DESCRIPTION:
DTSTART;TZID=Australia/Sydney:20240327T103000
DTEND;TZID=Australia/Sydney:20240327T123000
LOCATION:Dubbo Cultural Centre Music Room (next to DDFHS library) @ Cnr. Wi
 ngewarra & Gipps Street Dubbo
SEQUENCE:0
SUMMARY:Starting Your Family History Research
URL:http://dubbofamilyhistory.org.au/event/starting-your-family-history-res
 earch/
X-COST-TYPE:free
X-COST:$7.50 member\, $15 non-members
END:VEVENT
BEGIN:VEVENT
UID:ai1ec-1511@dubbofamilyhistory.org.au
DTSTAMP:20260424T162639Z
CATEGORIES:
CONTACT:Linda\; 6887 8284\; martinandlinda@gmail.com
DESCRIPTION:
DTSTART;TZID=Australia/Sydney:20240419T103000
DTEND;TZID=Australia/Sydney:20240419T113000
LOCATION:Dubbo Cultural Centre Music Room (next to DDFHS library) @ Cnr. Wi
 ngewarra and Gipps Streets Dubbo
SEQUENCE:0
SUMMARY:Information Session “Tips\, Tricks and Pitfalls”
URL:http://dubbofamilyhistory.org.au/event/information-session/
X-COST-TYPE:free
X-COST:$7.50 member\, $15 non-members
END:VEVENT
BEGIN:VEVENT
UID:ai1ec-1512@dubbofamilyhistory.org.au
DTSTAMP:20260424T162639Z
CATEGORIES:
CONTACT:Lyn\; baretsmiths@bigpond.com
DESCRIPTION:
DTSTART;TZID=Australia/Sydney:20240517T140000
DTEND;TZID=Australia/Sydney:20240517T153000
LOCATION:Cultural Centre (Drama Room) upstairs @ Cnr. Wingewarra & Gipps St
 reets Dubbo
SEQUENCE:0
SUMMARY:Share Your Story
URL:http://dubbofamilyhistory.org.au/event/share-your-story-3/
X-COST-TYPE:free
X-COST:$8 includes a'noon tea
END:VEVENT
BEGIN:VEVENT
UID:ai1ec-1524@dubbofamilyhistory.org.au
DTSTAMP:20260424T162639Z
CATEGORIES:
CONTACT:Jo Murphy\; Text 0438 511 980
DESCRIPTION:
DTSTART;TZID=Australia/Sydney:20240621T103000
DTEND;TZID=Australia/Sydney:20240621T113000
LOCATION:Dubbo Cultural Centre Music Room (next to DDFHS library) @ Cnr. Gi
 pps & Wingewarra Streets\, Dubbo
SEQUENCE:0
SUMMARY:Information Sessions – How to break through Your Brick Wall
URL:http://dubbofamilyhistory.org.au/event/information-sessions-how-to-brea
 k-through-your-brick-wall/
X-COST-TYPE:free
X-COST:$7.50 members\, $15 non-members
END:VEVENT
BEGIN:VEVENT
UID:ai1ec-1532@dubbofamilyhistory.org.au
DTSTAMP:20260424T162639Z
CATEGORIES:
CONTACT:Lyn\; baretsmiths@bigpond.com
DESCRIPTION:
DTSTART;TZID=Australia/Sydney:20240719T140000
DTEND;TZID=Australia/Sydney:20240719T153000
LOCATION:Dubbo Cultural Centre Auditorium\, near Museum entrance @ Cnr. Win
 gewarra & Gipps Street Dubbo
SEQUENCE:0
SUMMARY:
URL:http://dubbofamilyhistory.org.au/event/1532/
X-COST-TYPE:free
X-COST:$8 includes a'noon tea
END:VEVENT
BEGIN:VEVENT
UID:ai1ec-1541@dubbofamilyhistory.org.au
DTSTAMP:20260424T162639Z
CATEGORIES:
CONTACT:Lyn\; baretsmiths@bigpond.com
DESCRIPTION:
DTSTART;TZID=Australia/Sydney:20240920T140000
DTEND;TZID=Australia/Sydney:20240920T151500
LOCATION:Dubbo Cultural Centre Auditorium\, near Museum entrance @ Cnr. Win
 gewarra & Gipps Streets Dubbo
SEQUENCE:0
SUMMARY:Share Your Story
URL:http://dubbofamilyhistory.org.au/event/share-your-story-4/
X-COST-TYPE:free
X-COST:$8 includes a'noon tea
END:VEVENT
BEGIN:VEVENT
UID:ai1ec-1545@dubbofamilyhistory.org.au
DTSTAMP:20260424T162639Z
CATEGORIES:
CONTACT:Lyn\; baretsmiths@bigpond.com
DESCRIPTION:
DTSTART;TZID=Australia/Sydney:20241115T140000
DTEND;TZID=Australia/Sydney:20241115T153000
LOCATION:Dubbo Cultural Centre Auditorium\, near Museum entrance @ Cnr. Win
 gewarra & Gipps Street\, Dubbo.
SEQUENCE:0
SUMMARY:Book Launch of Revised edition of Early Pioneers of Dubbo Pre-1882
URL:http://dubbofamilyhistory.org.au/event/book-launch-of-revised-edition-o
 f-early-pioneers-of-dubbo-pre-1882/
X-COST-TYPE:free
END:VEVENT
BEGIN:VEVENT
UID:ai1ec-1584@dubbofamilyhistory.org.au
DTSTAMP:20260424T162639Z
CATEGORIES:
CONTACT:Lyn\; baretsmiths@bigpond.com
DESCRIPTION:
DTSTART;TZID=Australia/Sydney:20250221T140000
DTEND;TZID=Australia/Sydney:20250221T153000
LOCATION:Dubbo Cultural Centre Drama Room (upstairs in Community Arts Centr
 e @ Cnr. Wingewarra & Gipps Street Dubbo
SEQUENCE:0
SUMMARY:Share Your Story
URL:http://dubbofamilyhistory.org.au/event/1584/
X-COST-TYPE:free
X-COST:$8.00
END:VEVENT
BEGIN:VEVENT
UID:ai1ec-1594@dubbofamilyhistory.org.au
DTSTAMP:20260424T162639Z
CATEGORIES:
CONTACT:Linda\; 6887 8284\; martinandlinda@gmail.com
DESCRIPTION:
DTSTART;TZID=Australia/Sydney:20250306T103000
DTEND;TZID=Australia/Sydney:20250306T123000
LOCATION:Community Arts Centre (Music Room) @ Cnr. Wingewarra & Gipps Stree
 t Dubbo
SEQUENCE:0
SUMMARY:Family History Workshop – Starting Your Family History
URL:http://dubbofamilyhistory.org.au/event/family-history-workshop-starting
 -your-family-history/
X-COST-TYPE:free
X-COST:$7.50 members\, $15 non-members
END:VEVENT
BEGIN:VEVENT
UID:ai1ec-1596@dubbofamilyhistory.org.au
DTSTAMP:20260424T162639Z
CATEGORIES:
CONTACT:Linda\; 6887 8284\; martinandlinda@gmail.com
DESCRIPTION:
DTSTART;TZID=Australia/Sydney:20250312T103000
DTEND;TZID=Australia/Sydney:20250312T143000
LOCATION:Community Arts Centre (Music Room) @ Cnr. Wingewarra & Gipps Stree
 t\, Dubbo
SEQUENCE:0
SUMMARY:Family History Workshop
URL:http://dubbofamilyhistory.org.au/event/family-history-workshop/
X-COST-TYPE:free
X-COST:$7.50 members\, $15 non-members
END:VEVENT
BEGIN:VEVENT
UID:ai1ec-1595@dubbofamilyhistory.org.au
DTSTAMP:20260424T162639Z
CATEGORIES:
CONTACT:Linda\; 6887 8284\; martinandlinda@gmail.com
DESCRIPTION:
DTSTART;TZID=Australia/Sydney:20250319T051000
DTEND;TZID=Australia/Sydney:20250319T061000
LOCATION:Community Arts Centre (Music Room) @ Cnr. Wingewarra & Gipps Stree
 t\, Dubbo
SEQUENCE:0
SUMMARY:Family History Workshop -Using Data bases
URL:http://dubbofamilyhistory.org.au/event/family-history-workshop-using-da
 ta-bases/
X-COST-TYPE:free
X-COST:$7.50 member\, $15 non-members
END:VEVENT
BEGIN:VEVENT
UID:ai1ec-1591@dubbofamilyhistory.org.au
DTSTAMP:20260424T162639Z
CATEGORIES:
CONTACT:Linda\; 6887 8284\; martinandlinda@gmail.com
DESCRIPTION:
DTSTART;TZID=Australia/Sydney:20250326T103000
DTEND;TZID=Australia/Sydney:20250326T123000
LOCATION:Community Arts Centre (Music Room) @ Cnr. Wingewarra & Gipps Stree
 ts\, Dubbo
SEQUENCE:0
SUMMARY:Family History Workshop – Immigration & Shipping Records
URL:http://dubbofamilyhistory.org.au/event/family-history-workshop-starting
 -your-research/
X-COST-TYPE:free
X-COST:$7.50 members\, $15 non-members
END:VEVENT
BEGIN:VEVENT
UID:ai1ec-1607@dubbofamilyhistory.org.au
DTSTAMP:20260424T162639Z
CATEGORIES:
CONTACT:Lyn\; baretsmiths@bigpond.com
DESCRIPTION:
DTSTART;TZID=Australia/Sydney:20250516T140000
DTEND;TZID=Australia/Sydney:20250516T153000
LOCATION:Dubbo Cultural Centre Drama Room (upstairs in Community Arts Centr
 e @ Cnr. Wingewarra & Gipps Streets Dubbo
SEQUENCE:0
SUMMARY:Share Your Story with Steve Clayton
URL:http://dubbofamilyhistory.org.au/event/share-your-story-with-steve-clay
 ton/
X-COST-TYPE:free
X-COST:$8 includes a'noon tea
END:VEVENT
BEGIN:VEVENT
UID:ai1ec-1611@dubbofamilyhistory.org.au
DTSTAMP:20260424T162639Z
CATEGORIES:
CONTACT:Lyn\; baretsmiths@bigpond.com
DESCRIPTION:
DTSTART;TZID=Australia/Sydney:20250620T103000
DTEND;TZID=Australia/Sydney:20250620T120000
LOCATION:Community Arts Centre (Music Room) @ Cultural Centre\, Wingewarra 
 St. Dubbo
SEQUENCE:0
SUMMARY:Information Session – Free online genealogical sites
URL:http://dubbofamilyhistory.org.au/event/information-session-free-online-
 genealogical-sites/
X-COST-TYPE:free
X-COST:$7.50 member\, $15 non-members
END:VEVENT
BEGIN:VEVENT
UID:ai1ec-1617@dubbofamilyhistory.org.au
DTSTAMP:20260424T162639Z
CATEGORIES:
CONTACT:Lyn\; baretsmiths@bigpond.com
DESCRIPTION:
DTSTART;TZID=Australia/Sydney:20250718T140000
DTEND;TZID=Australia/Sydney:20250718T153000
LOCATION:Community Arts Centre (Drama Room) @ Cnr. Wingewarra & Gipps Stree
 t\, Dubbo
SEQUENCE:0
SUMMARY:Share Your Story Friday 18th July.
URL:http://dubbofamilyhistory.org.au/event/share-your-story-friday-18th-jul
 y/
X-COST-TYPE:free
X-COST:$8.00 (includes afternoon tea)
END:VEVENT
BEGIN:VEVENT
UID:ai1ec-1627@dubbofamilyhistory.org.au
DTSTAMP:20260424T162639Z
CATEGORIES:
CONTACT:Lyn\; baretsmiths@bigpond.com
DESCRIPTION:
DTSTART;TZID=Australia/Sydney:20250912T140000
DTEND;TZID=Australia/Sydney:20250912T153000
LOCATION:Dubbo Cultural Centre Auditorium\, near Museum entrance @ Wingewar
 ra Street Dubbo 2830
SEQUENCE:0
SUMMARY:Share Your Story Friday 12th September 2025
URL:http://dubbofamilyhistory.org.au/event/share-your-story-friday-12th-sep
 tember-2025/
X-COST-TYPE:free
X-COST:$8.00 (includes afternoon tea)
END:VEVENT
BEGIN:VEVENT
UID:ai1ec-1637@dubbofamilyhistory.org.au
DTSTAMP:20260424T162639Z
CATEGORIES:
CONTACT:Lyn\; baretsmiths@bigpond.com
DESCRIPTION:
DTSTART;TZID=Australia/Sydney:20251017T140000
DTEND;TZID=Australia/Sydney:20251017T151500
LOCATION:Dubbo Cultural Centre Drama Room (upstairs in Community Arts Centr
 e @ Cnr. Wingewarra & Gipps Streets Dubbo
SEQUENCE:0
SUMMARY:Share Your Story
URL:http://dubbofamilyhistory.org.au/event/share-your-story-5/
X-COST-TYPE:free
X-COST:$8.00 (includes afternoon tea)
END:VEVENT
BEGIN:VEVENT
UID:ai1ec-1648@dubbofamilyhistory.org.au
DTSTAMP:20260424T162639Z
CATEGORIES:
CONTACT:Lyn\; baretsmiths@bigpond.com
DESCRIPTION:
DTSTART;TZID=Australia/Sydney:20260220T140000
DTEND;TZID=Australia/Sydney:20260220T151500
LOCATION:Dubbo Cultural Centre Drama Room (upstairs in Community Arts Centr
 e @ Cnr. Wingewarra & Gipps Street Dubbo
SEQUENCE:0
SUMMARY:Share Your Story – Friday 20th February 2026
URL:http://dubbofamilyhistory.org.au/event/share-your-story-friday-20th-feb
 ruary-2026/
X-COST-TYPE:free
X-COST:$8.00 (includes afternoon tea)
END:VEVENT
BEGIN:VEVENT
UID:ai1ec-1657@dubbofamilyhistory.org.au
DTSTAMP:20260424T162639Z
CATEGORIES:
CONTACT:
DESCRIPTION:
DTSTART;TZID=Australia/Sydney:20260301T140000
DTEND;TZID=Australia/Sydney:20260301T150000
LOCATION:Community Arts Centre (Music Room)
SEQUENCE:0
SUMMARY:Annual General Meeting
URL:http://dubbofamilyhistory.org.au/event/annual-general-meeting/
X-COST-TYPE:free
END:VEVENT
BEGIN:VEVENT
UID:ai1ec-1665@dubbofamilyhistory.org.au
DTSTAMP:20260424T162639Z
CATEGORIES:
CONTACT:Lyn\; baretsmiths@bigpond.com
DESCRIPTION:
DTSTART;TZID=Australia/Sydney:20260417T140000
DTEND;TZID=Australia/Sydney:20260417T151500
LOCATION:Dubbo Cultural Centre Drama Room (upstairs in Community Arts Centr
 e @ Cnr. Wingewarra & Gipps Street Dubbo
SEQUENCE:0
SUMMARY:Share Your Story Friday 17th April 2026
URL:http://dubbofamilyhistory.org.au/event/share-your-story-friday-17th-apr
 il-2026/
X-COST-TYPE:free
X-COST:$8.00 (includes afternoon tea)
END:VEVENT
END:VCALENDAR
