BEGIN:VCALENDAR
VERSION:2.0
PRODID:-//43.229.63.211//NONSGML kigkonsult.se iCalcreator 2.26.9//
CALSCALE:GREGORIAN
METHOD:PUBLISH
X-WR-CALNAME:DDFHS Inc.
X-WR-CALDESC:Trustees of one of the largest collections of genealogical and
  historical resources outside of Sydney.
X-FROM-URL:http://dubbofamilyhistory.org.au
X-WR-TIMEZONE:Australia/Sydney
BEGIN:VTIMEZONE
TZID:Australia/Sydney
X-LIC-LOCATION:Australia/Sydney
BEGIN:STANDARD
DTSTART:20210404T030000
TZOFFSETFROM:+1100
TZOFFSETTO:+1000
RDATE:20220403T030000
TZNAME:AEST
END:STANDARD
BEGIN:DAYLIGHT
DTSTART:20201004T020000
TZOFFSETFROM:+1000
TZOFFSETTO:+1100
RDATE:20211003T020000
TZNAME:AEDT
END:DAYLIGHT
END:VTIMEZONE
BEGIN:VEVENT
UID:ai1ec-1052@dubbofamilyhistory.org.au
DTSTAMP:20210225T110820Z
CATEGORIES:
CONTACT:Linda Barnes\; 6887 8284\; martinandlinda@gmail.com
DESCRIPTION:CANCELLED The March Training and Education will cover the topic
  of ‘The Industrial School of New South Wales’.  If you can’t find your fa
 mily ancestors\, maybe they were in an industrial school. Come along and l
 earn how to find them and discover the lives they lived using the resource
 s available online and at the NSW State Archives.\nOur trainer will be Les
 ley Abrahams.   The cost for this sessions will be $5 for members and $10 
 for non-members.  You must book for this course with Linda Barnes on 6887 
 8284 or email her at martinandlinda@gmail.com\n 
DTSTART;TZID=Australia/Sydney:20200324T110000
DTEND;TZID=Australia/Sydney:20200324T123000
LOCATION:WPCC Drama Room @ Cnr.Wingewarra & Gipps Street Dubbo
SEQUENCE:0
SUMMARY:CANCELLED. Training & Education Program March 2020
URL:http://dubbofamilyhistory.org.au/event/training-education-program-march
 -2020/
X-COST-TYPE:free
X-ALT-DESC;FMTTYPE=text/html:<!DOCTYPE HTML PUBLIC '-//W3C//DTD HTML 3.2//E
 N'>\\n<HTML>\\n<HEAD>\\n<TITLE></TITLE>\\n</HEAD>\\n<BODY><p><span style='
 color: #000000\;'><span style='color: #ff0000\;'>CANCELLED</span> The</spa
 n> March Training and Education will cover the topic of ‘The Industrial Sc
 hool of New South Wales’.  If you can’t find your family ancestors\, maybe
  they were in an industrial school. Come along and learn how to find them 
 and discover the lives they lived using the resources available online and
  at the NSW State Archives.<br />\nOur trainer will be <em><span style='co
 lor: #ff9900\;'>Lesley Abrahams</span>.</em>   The cost for this sessions 
 will be $5 for members and $10 for non-members.  You <strong>must book</st
 rong> for this course with Linda Barnes on 6887 8284 or email her at marti
 nandlinda@gmail.com</p>\n<p> </p>\n</BODY></HTML>
X-COST:$5 members\,$10 non members
END:VEVENT
END:VCALENDAR
