BEGIN:VCALENDAR
VERSION:2.0
PRODID:-//43.229.63.211//NONSGML kigkonsult.se iCalcreator 2.26.9//
CALSCALE:GREGORIAN
METHOD:PUBLISH
X-WR-CALNAME:DDFHS Inc.
X-WR-CALDESC:Trustees of one of the largest collections of genealogical and
  historical resources outside of Sydney.
X-FROM-URL:http://dubbofamilyhistory.org.au
X-WR-TIMEZONE:Australia/Sydney
BEGIN:VTIMEZONE
TZID:Australia/Sydney
X-LIC-LOCATION:Australia/Sydney
BEGIN:STANDARD
DTSTART:20210404T030000
TZOFFSETFROM:+1100
TZOFFSETTO:+1000
RDATE:20220403T030000
TZNAME:AEST
END:STANDARD
BEGIN:DAYLIGHT
DTSTART:20201004T020000
TZOFFSETFROM:+1000
TZOFFSETTO:+1100
RDATE:20211003T020000
TZNAME:AEDT
END:DAYLIGHT
END:VTIMEZONE
BEGIN:VEVENT
UID:ai1ec-1168@dubbofamilyhistory.org.au
DTSTAMP:20210225T111901Z
CATEGORIES:
CONTACT:
DESCRIPTION:
DTSTART;TZID=Australia/Sydney:20210327T110000
DTEND;TZID=Australia/Sydney:20210327T130000
LOCATION:WPCC @ Cnr. Wingewarra & Gipps St Dubbo
SEQUENCE:0
SUMMARY:Vincent Studio Collection: how to search collection
URL:http://dubbofamilyhistory.org.au/event/vincent-studio-collection-discus
 sion-group/
X-COST-TYPE:external
END:VEVENT
END:VCALENDAR
