BEGIN:VCALENDAR
VERSION:2.0
PRODID:-//43.229.63.211//NONSGML kigkonsult.se iCalcreator 2.26.9//
CALSCALE:GREGORIAN
METHOD:PUBLISH
X-FROM-URL:http://dubbofamilyhistory.org.au
X-WR-TIMEZONE:Australia/Sydney
BEGIN:VTIMEZONE
TZID:Australia/Sydney
X-LIC-LOCATION:Australia/Sydney
BEGIN:STANDARD
DTSTART:20200405T030000
TZOFFSETFROM:+1100
TZOFFSETTO:+1000
RDATE:20210404T030000
TZNAME:AEST
END:STANDARD
BEGIN:DAYLIGHT
DTSTART:20191006T020000
TZOFFSETFROM:+1000
TZOFFSETTO:+1100
RDATE:20201004T020000
TZNAME:AEDT
END:DAYLIGHT
END:VTIMEZONE
BEGIN:VEVENT
UID:ai1ec-603@dubbofamilyhistory.org.au
DTSTAMP:20200228T050045Z
CATEGORIES:
CONTACT:Check Orange FH website for information
DESCRIPTION:
DTSTART;VALUE=DATE:20170922
DTEND;VALUE=DATE:20170925
LOCATION:Check Orange FH website for information @ Check Orange FH website 
 for information
SEQUENCE:0
SUMMARY:Annual Conference of NSW & ACT Assoc. of Family History Societies a
 t Orange
URL:http://dubbofamilyhistory.org.au/event/annual-conference-of-nsw-act-ass
 oc-of-family-history-societies-at-orange/
X-COST:Check Orange FH website for information
END:VEVENT
BEGIN:VEVENT
UID:ai1ec-599@dubbofamilyhistory.org.au
DTSTAMP:20200228T050045Z
CATEGORIES:
CONTACT:June Wilson\; 02 6882 5366 or 0417690495\; juniwil@clearmail.com.au
DESCRIPTION:
DTSTART;TZID=Australia/Sydney:20170317T140000
DTEND;TZID=Australia/Sydney:20170317T150000
GEO:-32.25032;+148.610745
LOCATION:Family History Rooms\, Cultural Precinct @ Wingewarra St & Gipps S
 t\, Dubbo NSW 2830\, Australia
SEQUENCE:0
SUMMARY:Share Your Story
URL:http://dubbofamilyhistory.org.au/event/share-your-story/
X-COST:$3 towards cost of refreshments
END:VEVENT
BEGIN:VEVENT
UID:ai1ec-600@dubbofamilyhistory.org.au
DTSTAMP:20200228T050045Z
CATEGORIES:
CONTACT:June Wilson\; 02 6882 5366 or 0417690495\; juniwil@clearmail.com.au
DESCRIPTION:
DTSTART;TZID=Australia/Sydney:20170319T140000
DTEND;TZID=Australia/Sydney:20170319T150000
GEO:-32.25032;+148.610745
LOCATION:Family History Rooms\, Cultural Precinct @ Wingewarra St & Gipps S
 t\, Dubbo NSW 2830\, Australia
SEQUENCE:0
SUMMARY:Annual General Meeting
URL:http://dubbofamilyhistory.org.au/event/annual-general-meeting-2/
END:VEVENT
BEGIN:VEVENT
UID:ai1ec-653@dubbofamilyhistory.org.au
DTSTAMP:20200228T050045Z
CATEGORIES:
CONTACT:June Wilson\; 6882 5366\; juniwil1943@gmail.com
DESCRIPTION:
DTSTART;TZID=Australia/Sydney:20170616T140000
DTEND;TZID=Australia/Sydney:20170616T153000
GEO:-32.25032;+148.610745
LOCATION:Community Centre Rooms\, Dubbo Cultural Centre @ Wingewarra St & G
 ipps St\, Dubbo NSW 2830\, Australia
SEQUENCE:0
SUMMARY:Share Your Story
URL:http://dubbofamilyhistory.org.au/event/share-your-story-2/
X-COST:$3 to cover afternoon tea
END:VEVENT
BEGIN:VEVENT
UID:ai1ec-662@dubbofamilyhistory.org.au
DTSTAMP:20200228T050045Z
CATEGORIES:
CONTACT:Lyn Smith\; 02 6885 0107\; baretsmith@bigpond.com
DESCRIPTION:
DTSTART;TZID=Australia/Sydney:20170721T140000
DTEND;TZID=Australia/Sydney:20170721T160000
GEO:-32.25032;+148.610745
LOCATION:Community Centre Rooms\, Dubbo Cultural Centre @ Wingewarra St & G
 ipps St\, Dubbo NSW 2830\, Australia
SEQUENCE:0
SUMMARY:Share Your Story on Friday 21st July 2017
URL:http://dubbofamilyhistory.org.au/event/662/
X-COST:$3 to cover afternoon tea
END:VEVENT
BEGIN:VEVENT
UID:ai1ec-655@dubbofamilyhistory.org.au
DTSTAMP:20200228T050045Z
CATEGORIES:
CONTACT:Robyn Allan\; 0477 127 700
DESCRIPTION:
DTSTART;TZID=Australia/Sydney:20170729T100000
DTEND;TZID=Australia/Sydney:20170729T130000
GEO:-32.25032;+148.610745
LOCATION:Community Centre Rooms\, Dubbo Cultural Centre @ Wingewarra St & G
 ipps St\, Dubbo NSW 2830\, Australia
SEQUENCE:0
SUMMARY:Scanning and Editing Digital Images Course
URL:http://dubbofamilyhistory.org.au/event/scanning-and-editing-digital-ima
 ges-course/
X-COST:$20 members\, $30 non members
END:VEVENT
BEGIN:VEVENT
UID:ai1ec-672@dubbofamilyhistory.org.au
DTSTAMP:20200228T050045Z
CATEGORIES:
CONTACT:Dorothy Blake\; 02 6845 3562
DESCRIPTION:
DTSTART;TZID=Australia/Sydney:20170818T101500
DTEND;TZID=Australia/Sydney:20170820T150000
GEO:-32.551592;+148.943406
LOCATION:Oxley Museum @ Cnr Warne Street & Percy Street\, Wellington NSW 28
 20\, Australia
SEQUENCE:0
SUMMARY:Wellington Bicentenary Celebrations 18th-20th August 2017
URL:http://dubbofamilyhistory.org.au/event/wellington-bicentenary-celebrati
 ons-18th-20th-august-2017/
X-COST:Gold coin donation
END:VEVENT
BEGIN:VEVENT
UID:ai1ec-671@dubbofamilyhistory.org.au
DTSTAMP:20200228T050045Z
CATEGORIES:
CONTACT:June Wilson\; 6882 5366\; juniwil1943@gmail.com
DESCRIPTION:
DTSTART;TZID=Australia/Sydney:20170818T140000
DTEND;TZID=Australia/Sydney:20170818T160000
GEO:-32.25032;+148.610745
LOCATION:Community Centre Rooms\, Dubbo Cultural Centre @ Wingewarra St & G
 ipps St\, Dubbo NSW 2830\, Australia
SEQUENCE:0
SUMMARY:Share Your Story 18th August 2017
URL:http://dubbofamilyhistory.org.au/event/671/
X-COST:$3 to cover afternoon tea
END:VEVENT
BEGIN:VEVENT
UID:ai1ec-687@dubbofamilyhistory.org.au
DTSTAMP:20200228T050045Z
CATEGORIES:
CONTACT:
DESCRIPTION:
DTSTART;TZID=Australia/Sydney:20170917T140000
DTEND;TZID=Australia/Sydney:20170917T153000
GEO:-32.249069;+148.603208
LOCATION:Jacaranda Room\, Dubbo RSL Club @ Wingewarra St & Brisbane Street\
 , Dubbo NSW 2830\, Australia
SEQUENCE:0
SUMMARY:Book Launch by Steve Hodder on 17th September 2017
URL:http://dubbofamilyhistory.org.au/event/book-launch-by-steve-hodder-on-1
 7th-september-2017/
END:VEVENT
BEGIN:VEVENT
UID:ai1ec-691@dubbofamilyhistory.org.au
DTSTAMP:20200228T050045Z
CATEGORIES:
CONTACT:
DESCRIPTION:
DTSTART;TZID=Australia/Sydney:20171020T140000
DTEND;TZID=Australia/Sydney:20171020T150000
SEQUENCE:0
SUMMARY:Share Your Story on Friday 20th October 2017\, 2pm
URL:http://dubbofamilyhistory.org.au/event/share-your-story-on-friday-20th-
 october-2017-2pm/
END:VEVENT
BEGIN:VEVENT
UID:ai1ec-706@dubbofamilyhistory.org.au
DTSTAMP:20200228T050045Z
CATEGORIES:
CONTACT:June Wilson\; 02 6882 5366\; juniwil1943@gmail.com
DESCRIPTION:
DTSTART;TZID=Australia/Sydney:20171117T140000
DTEND;TZID=Australia/Sydney:20171117T160000
GEO:-32.25032;+148.610745
LOCATION:Community Arts Centre @ Wingewarra St & Gipps St\, Dubbo NSW 2830\
 , Australia
SEQUENCE:0
SUMMARY:Share your Story\, Friday 17th November 2017
URL:http://dubbofamilyhistory.org.au/event/share-your-story-friday-17th-nov
 ember-2017/
X-COST:$3 towards afternoon tea
END:VEVENT
BEGIN:VEVENT
UID:ai1ec-734@dubbofamilyhistory.org.au
DTSTAMP:20200228T050045Z
CATEGORIES:
CONTACT:June Wilson by 13th March 2018\; 6882 5366/0417 690 495\; juniwill4
 3@gmail.com
DESCRIPTION:
DTSTART;TZID=Australia/Sydney:20180316T140000
DTEND;TZID=Australia/Sydney:20180316T160000
GEO:-32.250549;+148.612404
LOCATION:Western Plains Cultural Cent @ Wingewarra St\, Dubbo NSW 2830\, Au
 stralia
SEQUENCE:0
SUMMARY:Share Your Story presented by Lesley Abrahams
URL:http://dubbofamilyhistory.org.au/event/share-your-story-presented-by-le
 sley-abrahams/
X-COST:$4 towards refreshments
END:VEVENT
BEGIN:VEVENT
UID:ai1ec-733@dubbofamilyhistory.org.au
DTSTAMP:20200228T050045Z
CATEGORIES:
CONTACT:
DESCRIPTION:
DTSTART;TZID=Australia/Sydney:20180318T140000
DTEND;TZID=Australia/Sydney:20180318T153000
GEO:-32.250549;+148.612404
LOCATION:Western Plains Cultural Cent @ Wingewarra St\, Dubbo NSW 2830\, Au
 stralia
SEQUENCE:0
SUMMARY:Annual General Meeting
URL:http://dubbofamilyhistory.org.au/event/annual-general-meeting-3/
END:VEVENT
BEGIN:VEVENT
UID:ai1ec-748@dubbofamilyhistory.org.au
DTSTAMP:20200228T050045Z
CATEGORIES:
CONTACT:June Wilson by 17th April 2018\; 6882 5366/0417 690 495\; juniwill4
 3@gmail.com
DESCRIPTION:
DTSTART;TZID=Australia/Sydney:20180420T140000
DTEND;TZID=Australia/Sydney:20180420T153000
GEO:-32.250549;+148.612404
LOCATION:Western Plains Cultural Cent @ Wingewarra St\, Dubbo NSW 2830\, Au
 stralia
SEQUENCE:0
SUMMARY:Share Your Story
URL:http://dubbofamilyhistory.org.au/event/share-your-story-3/
X-COST-TYPE:free
X-COST:$4 towards refreshments
END:VEVENT
BEGIN:VEVENT
UID:ai1ec-758@dubbofamilyhistory.org.au
DTSTAMP:20200228T050045Z
CATEGORIES:
CONTACT:June Wilson\; 02 6882 5366 or 0417 690 495\; juniwil1943@gmail.com
DESCRIPTION:
DTSTART;TZID=Australia/Sydney:20180518T140000
DTEND;TZID=Australia/Sydney:20180518T153000
GEO:-32.250549;+148.612404
LOCATION:WPCC Community Arts Centre @ Wingewarra St\, Dubbo NSW 2830\, Aust
 ralia
SEQUENCE:0
SUMMARY:
URL:http://dubbofamilyhistory.org.au/event/758/
X-COST-TYPE:free
X-COST:$4 towards refreshments.
END:VEVENT
BEGIN:VEVENT
UID:ai1ec-798@dubbofamilyhistory.org.au
DTSTAMP:20200228T050045Z
CATEGORIES:
CONTACT:Lyn Smith\; 6885 0107\; baretsmith@bigpond.com
DESCRIPTION:
DTSTART;TZID=Australia/Sydney:20181019T140000
DTEND;TZID=Australia/Sydney:20181019T153000
GEO:-32.250496;+148.612077
LOCATION:Western Plains Cultural Cent @ Wingewarra St\, Dubbo NSW 2830\, Au
 stralia
SEQUENCE:0
SUMMARY:Share Your Story on Friday 19th October 2018
URL:http://dubbofamilyhistory.org.au/event/share-your-story-on-friday-21st-
 september-2018/
X-COST-TYPE:free
X-COST:$4 towards refreshments
END:VEVENT
BEGIN:VEVENT
UID:ai1ec-805@dubbofamilyhistory.org.au
DTSTAMP:20200228T050045Z
CATEGORIES:
CONTACT:Robyn Allan\; 0477 127 700\; rpallan@bigpond.net.au
DESCRIPTION:Members and guests are invited to attend our Annual Christmas P
 arty  to be held on Sunday 25th November 2018\, starting at 6.30pm. It wil
 l be held in the Science Room at the Community Arts Centre.  Cost will be 
 $25 per head which includes a two course meal and homemade punch.  Bring a
 long your own preferred drinks and put on your best Christmas decorations 
 as prizes will be awarded. You must RSVP to Robyn Allan before Tuesday 20t
 h November for catering purposes.  Robyn can be contacted on 0477 127 700 
 or rpallan@bigpond.net.au\nLook forward to seeing you there.\n 
DTSTART;TZID=Australia/Sydney:20181125T183000
DTEND;TZID=Australia/Sydney:20181125T213000
GEO:-32.250496;+148.612077
LOCATION:Science Room\, Community Arts Centre @ Wingewarra St\, Dubbo NSW 2
 830\, Australia
SEQUENCE:0
SUMMARY:Family History Christmas Party
URL:http://dubbofamilyhistory.org.au/event/family-history-christmas-party/
X-COST-TYPE:free
X-ALT-DESC;FMTTYPE=text/html:<!DOCTYPE HTML PUBLIC '-//W3C//DTD HTML 3.2//E
 N'>\\n<HTML>\\n<HEAD>\\n<TITLE></TITLE>\\n</HEAD>\\n<BODY><p>Members and g
 uests are invited to attend our <span style='color: #ff0000\;'><em><strong
 >Annual Christmas</strong> <strong>Party</strong></em></span>  to be held 
 on <span style='color: #00ff00\;'><strong>Sunday 25th November 2018</stron
 g></span>\, starting at <strong><span style='color: #000000\;'>6.30pm</spa
 n></strong>. It will be held in the Science Room at the Community Arts Cen
 tre.  Cost will be $25 per head which includes a two course meal and homem
 ade punch.  Bring along your own preferred drinks and <span style='color: 
 #ff0000\;'><strong>put</strong></span> on your best Christmas decorations 
 as prizes will be awarded. You must RSVP to Robyn Allan before Tuesday 20t
 h November for catering purposes.  Robyn can be contacted on 0477 127 700 
 or rpallan@bigpond.net.au<br />\nLook forward to seeing you there.</p>\n<p
 > </p>\n</BODY></HTML>
X-COST:$25
END:VEVENT
BEGIN:VEVENT
UID:ai1ec-814@dubbofamilyhistory.org.au
DTSTAMP:20200228T050045Z
CATEGORIES:
CONTACT:June Wilson\; 0417690495\; juniwil1943@gmail.com
DESCRIPTION:
DTSTART;TZID=Australia/Sydney:20190215T140000
DTEND;TZID=Australia/Sydney:20190215T153000
LOCATION:Western Plains Cultural Cent @ Cnr. Wingwarra & Gipps Streets\, Du
 bbo
SEQUENCE:0
SUMMARY:Share Your Story – 15th February 2019
URL:http://dubbofamilyhistory.org.au/event/share-your-story-15th-february-2
 019/
X-COST-TYPE:free
X-COST:$4 towards refreshments
END:VEVENT
BEGIN:VEVENT
UID:ai1ec-836@dubbofamilyhistory.org.au
DTSTAMP:20200228T050045Z
CATEGORIES:
CONTACT:Linda Barnes\; 68878284
DESCRIPTION:
DTSTART;TZID=Australia/Sydney:20190225T120000
DTEND;TZID=Australia/Sydney:20190225T130000
LOCATION:Western Plains Cultural Centre @ Cnr.Wingewarra & Gipps Street Dub
 bo
SEQUENCE:0
SUMMARY:Training course Monday 25th February 2019
URL:http://dubbofamilyhistory.org.au/event/training-course-monday-25th-febr
 uary-2019/
X-COST-TYPE:free
X-COST:$5members/$10nonmembers
END:VEVENT
BEGIN:VEVENT
UID:ai1ec-842@dubbofamilyhistory.org.au
DTSTAMP:20200228T050045Z
CATEGORIES:
CONTACT:
DESCRIPTION:
DTSTART;TZID=Australia/Sydney:20190315T140000
DTEND;TZID=Australia/Sydney:20190315T153000
LOCATION:Western Plains Cultural Centre @ Cnr. Wingewarra & Gipps Street\, 
 Dubbo
SEQUENCE:0
SUMMARY:Share Your Story Friday 15th March 2019
URL:http://dubbofamilyhistory.org.au/event/share-your-story-friday-15th-mar
 ch-2019/
X-COST-TYPE:free
END:VEVENT
BEGIN:VEVENT
UID:ai1ec-831@dubbofamilyhistory.org.au
DTSTAMP:20200228T050045Z
CATEGORIES:
CONTACT:
DESCRIPTION:
DTSTART;TZID=Australia/Sydney:20190317T140000
DTEND;TZID=Australia/Sydney:20190317T150000
LOCATION:Music Room\, Cultural Events Centre @ cnr. Wingewarra and Gipps St
 reet Dubbo
SEQUENCE:0
SUMMARY:Annual General Meeting
URL:http://dubbofamilyhistory.org.au/event/annual-general-meeting-4/
X-COST-TYPE:free
END:VEVENT
BEGIN:VEVENT
UID:ai1ec-838@dubbofamilyhistory.org.au
DTSTAMP:20200228T050045Z
CATEGORIES:
CONTACT:Linda Barnes\; 68878284\; martinandlinda@gmail.com
DESCRIPTION:
DTSTART;TZID=Australia/Sydney:20190325T110000
DTEND;TZID=Australia/Sydney:20190325T120000
LOCATION:Western Plains Cultural Centre @ Cnr.Wingewarra & Gipps Street Dub
 bo
SEQUENCE:0
SUMMARY:Training Course Monday 25th March – Historical property ownership
URL:http://dubbofamilyhistory.org.au/event/training-course-monday-25th-marc
 h-historical-property-ownership/
X-COST-TYPE:free
X-COST:$5members/$10nonmembers
END:VEVENT
BEGIN:VEVENT
UID:ai1ec-879@dubbofamilyhistory.org.au
DTSTAMP:20200228T050045Z
CATEGORIES:
CONTACT:
DESCRIPTION:
DTSTART;TZID=Australia/Sydney:20190517T140000
DTEND;TZID=Australia/Sydney:20190517T160000
LOCATION:Western Plains Cultural Centre @ Cnr. Wingewarra and Gipps Street 
 Dubbo
SEQUENCE:0
SUMMARY:Share Your Story on Friday 17th May 2019
URL:http://dubbofamilyhistory.org.au/event/share-your-story-on-friday-17th-
 may-2019/
X-COST-TYPE:free
X-COST:$4 towards refreshments
END:VEVENT
BEGIN:VEVENT
UID:ai1ec-839@dubbofamilyhistory.org.au
DTSTAMP:20200228T050045Z
CATEGORIES:
CONTACT:Linda Barnes\; 68878284\; martinandlinda@gmail.com
DESCRIPTION:
DTSTART;TZID=Australia/Sydney:20190527T110000
DTEND;TZID=Australia/Sydney:20190527T120000
LOCATION:Western Plains Cultural Centre @ Cnr.Wingewarra & Gipps St. Dubbo
SEQUENCE:0
SUMMARY:Training Course Monday 27th May 2019 Understanding Land & Property 
 Records
URL:http://dubbofamilyhistory.org.au/event/training-course-monday-27th-may-
 2019-ung-land-property-records/
X-COST-TYPE:free
X-COST:$5members/$10nonmembers
END:VEVENT
BEGIN:VEVENT
UID:ai1ec-840@dubbofamilyhistory.org.au
DTSTAMP:20200228T050045Z
CATEGORIES:
CONTACT:Linda Barnes\; 68878284\; martinandlinda@gmail.com
DESCRIPTION:
DTSTART;TZID=Australia/Sydney:20190624T110000
DTEND;TZID=Australia/Sydney:20190624T120000
LOCATION:Western Plains Cultural Centre @ Cnr.Wingewarra & Gipps St Dubbo
SEQUENCE:0
SUMMARY:Training Course Monday 24th June 2019 – Wills\, probate & admin. re
 cords
URL:http://dubbofamilyhistory.org.au/event/training-course-monday-24th-june
 -2019-wills-probate-admin-records/
X-COST-TYPE:free
X-COST:$5members/$10nonmembers
END:VEVENT
BEGIN:VEVENT
UID:ai1ec-890@dubbofamilyhistory.org.au
DTSTAMP:20200228T050045Z
CATEGORIES:
CONTACT:
DESCRIPTION:
DTSTART;TZID=Australia/Sydney:20190719T140000
DTEND;TZID=Australia/Sydney:20190719T153000
LOCATION:WPCC  @ Wingewarra Street\, Dubbo
SEQUENCE:0
SUMMARY:Share Your Story
URL:http://dubbofamilyhistory.org.au/event/share-your-story-4/
X-COST-TYPE:free
X-COST:$4 towards refreshments
END:VEVENT
BEGIN:VEVENT
UID:ai1ec-891@dubbofamilyhistory.org.au
DTSTAMP:20200228T050045Z
CATEGORIES:
CONTACT:Linda Barnes\; 68878284\; martinandlinda@gmail.com
DESCRIPTION:
DTSTART;TZID=Australia/Sydney:20190722T110000
DTEND;TZID=Australia/Sydney:20190722T121500
LOCATION:Music Room\, Cultural Events Centre @ Wingewarra Street\, Dubbo
SEQUENCE:0
SUMMARY:Training and Education Program
URL:http://dubbofamilyhistory.org.au/event/training-and-education-program/
X-COST-TYPE:free
X-COST:$5members/$10nonmembers
END:VEVENT
BEGIN:VEVENT
UID:ai1ec-903@dubbofamilyhistory.org.au
DTSTAMP:20200228T050045Z
CATEGORIES:
CONTACT:
DESCRIPTION:Share Your Story on Friday 16th August will be presented by Di 
 and Bob McKeowen.  Bob and Di will be known to many people but you may not
  be aware that they originally met when they were both in New Guinea.  Com
 e along for a 2pm start and hear their stories of experiences in this coun
 try which is right on Australia’s northern doorstep. As usual there is a $
 4 cost towards the cost of afternoon tea.
DTSTART;TZID=Australia/Sydney:20190816T140000
DTEND;TZID=Australia/Sydney:20190816T153000
LOCATION:Western Plains Cultural Centre @ Wingewarra Street Dubbo
SEQUENCE:0
SUMMARY:Share Your Story on 16th August 2019
URL:http://dubbofamilyhistory.org.au/event/share-your-story-on-16th-august-
 2019/
X-COST-TYPE:free
X-ALT-DESC;FMTTYPE=text/html:<!DOCTYPE HTML PUBLIC '-//W3C//DTD HTML 3.2//E
 N'>\\n<HTML>\\n<HEAD>\\n<TITLE></TITLE>\\n</HEAD>\\n<BODY><p><strong>Share
  Your Story</strong> on <strong>Friday 16th August</strong> will be presen
 ted by <em><strong>Di</strong></em> and <em><strong>Bob McKeowen</strong><
 /em>.  Bob and Di will be known to many people but you may not be aware th
 at they originally met when they were both in New Guinea.  Come along for 
 a <strong>2pm</strong> start and hear their stories of experiences in this
  country which is right on Australia’s northern doorstep. As usual there i
 s a $4 cost towards the cost of afternoon tea.</p>\n</BODY></HTML>
X-COST:$4 towards refreshments
END:VEVENT
BEGIN:VEVENT
UID:ai1ec-909@dubbofamilyhistory.org.au
DTSTAMP:20200228T050045Z
CATEGORIES:
CONTACT:Linda Barnes\; 68878284\; martinandlinda@gmail.com
DESCRIPTION:
DTSTART;TZID=Australia/Sydney:20190826T110000
DTEND;TZID=Australia/Sydney:20190826T121500
LOCATION:Western Plains Cultural Centre @ Wingewarra Street Dubbo
SEQUENCE:0
SUMMARY:Training Session on ‘following a convict’s paper trail in the UK an
 d the colonies
URL:http://dubbofamilyhistory.org.au/event/training-session-on-following-a-
 convicts-paper-trail-in-the-uk-and-the-colonies/
X-COST-TYPE:free
X-COST:$5members/$10nonmembers
END:VEVENT
BEGIN:VEVENT
UID:ai1ec-942@dubbofamilyhistory.org.au
DTSTAMP:20200228T050045Z
CATEGORIES:
CONTACT:Linda Barnes\; 68878284\; martinandlinda@gmail.com
DESCRIPTION:
DTSTART;TZID=Australia/Sydney:20190918T100000
DTEND;TZID=Australia/Sydney:20190918T140000
LOCATION:Western Plains Cultural Centre @ Cnr. Wingewarra & Gipps Street Du
 bbo
SEQUENCE:0
SUMMARY:Family History Annual Stock Take
URL:http://dubbofamilyhistory.org.au/event/family-history-annual-stock-take
 /
X-COST-TYPE:free
X-COST:No cost\, free morning tea and lunch
END:VEVENT
BEGIN:VEVENT
UID:ai1ec-946@dubbofamilyhistory.org.au
DTSTAMP:20200228T050045Z
CATEGORIES:
CONTACT:
DESCRIPTION:
DTSTART;TZID=Australia/Sydney:20190920T140000
DTEND;TZID=Australia/Sydney:20190920T153000
LOCATION:Western Plains Cultural Centre @ Wingewarra Street\, Dubbo
SEQUENCE:0
SUMMARY:Share Your Story
URL:http://dubbofamilyhistory.org.au/event/share-your-story-5/
X-COST-TYPE:free
X-COST:$4 towards refreshments
END:VEVENT
BEGIN:VEVENT
UID:ai1ec-949@dubbofamilyhistory.org.au
DTSTAMP:20200228T050045Z
CATEGORIES:
CONTACT:Linda Barnes\; 6887 8284\; martinandlinda@gmail.com
DESCRIPTION:
DTSTART;TZID=Australia/Sydney:20190923T110000
DTEND;TZID=Australia/Sydney:20190923T120000
LOCATION:Western Plains Cultural Centre @ Wingewarra Street Dubbo
SEQUENCE:0
SUMMARY:Training Session ‘How DNA can open up your family history research’
URL:http://dubbofamilyhistory.org.au/event/training-session-how-dna-can-ope
 n-up-your-family-history-research/
X-COST-TYPE:free
X-COST:$5members/$10nonmembers
END:VEVENT
BEGIN:VEVENT
UID:ai1ec-982@dubbofamilyhistory.org.au
DTSTAMP:20200228T050045Z
CATEGORIES:
CONTACT:
DESCRIPTION:
DTSTART;TZID=Australia/Sydney:20191018T140000
DTEND;TZID=Australia/Sydney:20191018T153000
LOCATION:Western Plains Cultural Centre @ Cnr. Wingewarra and Gipps Street 
 Dubbo
SEQUENCE:0
SUMMARY:Share Your Story for October
URL:http://dubbofamilyhistory.org.au/event/share-your-story-for-october/
X-COST-TYPE:free
X-COST:$4 for afternoon tea
END:VEVENT
BEGIN:VEVENT
UID:ai1ec-987@dubbofamilyhistory.org.au
DTSTAMP:20200228T050045Z
CATEGORIES:
CONTACT:K Robinson\; 02 6885 5773
DESCRIPTION:
DTSTART;TZID=Australia/Sydney:20191028T110000
DTEND;TZID=Australia/Sydney:20191028T121500
LOCATION:Western Plains Cultural Centre @ Cnr. Wingewarra & Gipps Streets D
 ubbo
SEQUENCE:0
SUMMARY:Training & Education Session for October
URL:http://dubbofamilyhistory.org.au/event/training-education-session-for-o
 ctober/
X-COST-TYPE:free
X-COST:$5members/$10nonmembers
END:VEVENT
BEGIN:VEVENT
UID:ai1ec-1001@dubbofamilyhistory.org.au
DTSTAMP:20200228T050045Z
CATEGORIES:
CONTACT:
DESCRIPTION:
DTSTART;TZID=Australia/Sydney:20191115T140000
DTEND;TZID=Australia/Sydney:20191115T153000
LOCATION:Western Plains Cultural Centre @ Cnr. Wingewarra & Gipps Street\, 
 Dubbo
SEQUENCE:0
SUMMARY:Share Your Story
URL:http://dubbofamilyhistory.org.au/event/share-your-story-6/
X-COST-TYPE:free
X-COST:$4 towards refreshments
END:VEVENT
BEGIN:VEVENT
UID:ai1ec-1049@dubbofamilyhistory.org.au
DTSTAMP:20200228T050045Z
CATEGORIES:
CONTACT:
DESCRIPTION:
DTSTART;TZID=Australia/Sydney:20200221T140000
DTEND;TZID=Australia/Sydney:20200221T153000
LOCATION:WPCC Community Arts Centre\, @ Cnr. Wingewarra & Gipps Street Dubb
 o.
SEQUENCE:0
SUMMARY:Share Your Story presented by Lyn Harrison
URL:http://dubbofamilyhistory.org.au/event/share-your-story-presented-by-ly
 n-harrison/
X-COST-TYPE:free
X-COST:$5 towards a'noon tea.
END:VEVENT
BEGIN:VEVENT
UID:ai1ec-1048@dubbofamilyhistory.org.au
DTSTAMP:20200228T050045Z
CATEGORIES:
CONTACT:Linda Barnes\; 02 6887 8284
DESCRIPTION:Sorry\, but the proposed education program for the 24th Februar
 y has been cancelled.
DTSTART;TZID=Australia/Sydney:20200225T110000
DTEND;TZID=Australia/Sydney:20200225T120000
LOCATION:Drama Room\, Western Plains Cultural Centre @ Cnr. Wingewarra & Gi
 pps Streets Dubbo
SEQUENCE:0
SUMMARY:Sorry!! Training & Education Session for February has been cancelle
 d!!
URL:http://dubbofamilyhistory.org.au/event/training-education-session-for-f
 eb/
X-COST-TYPE:free
X-ALT-DESC;FMTTYPE=text/html:<!DOCTYPE HTML PUBLIC '-//W3C//DTD HTML 3.2//E
 N'>\\n<HTML>\\n<HEAD>\\n<TITLE></TITLE>\\n</HEAD>\\n<BODY><p><span style='
 color: #ff0000\;'><em><strong>Sorry\, but the proposed education program f
 or the 24th February has been cancelled.</strong> </em></span></p>\n</BODY
 ></HTML>
X-COST:$5 members/$10 non-members
END:VEVENT
BEGIN:VEVENT
UID:ai1ec-1050@dubbofamilyhistory.org.au
DTSTAMP:20200228T050045Z
CATEGORIES:
CONTACT:
DESCRIPTION:
DTSTART;TZID=Australia/Sydney:20200320T140000
DTEND;TZID=Australia/Sydney:20200320T153000
LOCATION:WPCC Community Arts Centre\, @ Cnr. Wingewarra & Gipps Street\, Du
 bbo
SEQUENCE:0
SUMMARY:Share Your Story
URL:http://dubbofamilyhistory.org.au/event/share-your-story-7/
X-COST-TYPE:free
X-COST:$5 a'noon tea
END:VEVENT
BEGIN:VEVENT
UID:ai1ec-1052@dubbofamilyhistory.org.au
DTSTAMP:20200228T050045Z
CATEGORIES:
CONTACT:Linda Barnes\; 6887 8284\; martinandlinda@gmail.com
DESCRIPTION:The March Training and Education will cover the topic of ‘The I
 ndustrial School of New South Wales’.  If you can’t find your family ances
 tors\, maybe they were in an industrial school. Come along and learn how t
 o find them and discover the lives they lived using the resources availabl
 e online and at the NSW State Archives.\nOur trainer will be Lesley Abraha
 ms.   The cost for this sessions will be $5 for members and $10 for non-me
 mbers.  You must book for this course with Linda Barnes on 6887 8284 or em
 ail her at martinandlinda@gmail.com\n 
DTSTART;TZID=Australia/Sydney:20200324T110000
DTEND;TZID=Australia/Sydney:20200324T123000
LOCATION:WPCC Drama Room @ Cnr.Wingewarra & Gipps Street Dubbo
SEQUENCE:0
SUMMARY:Training & Education Program March 2020
URL:http://dubbofamilyhistory.org.au/event/training-education-program-march
 -2020/
X-COST-TYPE:free
X-ALT-DESC;FMTTYPE=text/html:<!DOCTYPE HTML PUBLIC '-//W3C//DTD HTML 3.2//E
 N'>\\n<HTML>\\n<HEAD>\\n<TITLE></TITLE>\\n</HEAD>\\n<BODY><p>The March Tra
 ining and Education will cover the topic of ‘The Industrial School of New 
 South Wales’.  If you can’t find your family ancestors\, maybe they were i
 n an industrial school. Come along and learn how to find them and discover
  the lives they lived using the resources available online and at the NSW 
 State Archives.<br />\nOur trainer will be <em><span style='color: #ff9900
 \;'>Lesley Abrahams</span>.</em>   The cost for this sessions will be $5 f
 or members and $10 for non-members.  You <strong>must book</strong> for th
 is course with Linda Barnes on 6887 8284 or email her at martinandlinda@gm
 ail.com</p>\n<p> </p>\n</BODY></HTML>
X-COST:$5 members\,$10 non members
END:VEVENT
END:VCALENDAR
